BEGIN:VCALENDAR
VERSION:2.0
PRODID:-//ÖKV - ECPv6.15.20//NONSGML v1.0//EN
CALSCALE:GREGORIAN
METHOD:PUBLISH
X-WR-CALNAME:ÖKV
X-ORIGINAL-URL:https://kulturvereinigung.at
X-WR-CALDESC:Veranstaltungen für ÖKV
REFRESH-INTERVAL;VALUE=DURATION:PT1H
X-Robots-Tag:noindex
X-PUBLISHED-TTL:PT1H
BEGIN:VTIMEZONE
TZID:UTC
BEGIN:STANDARD
TZOFFSETFROM:+0000
TZOFFSETTO:+0000
TZNAME:UTC
DTSTART:20230101T000000
END:STANDARD
END:VTIMEZONE
BEGIN:VEVENT
DTSTART;TZID=UTC:20240919T160000
DTEND;TZID=UTC:20240919T170000
DTSTAMP:20260423T104533
CREATED:20240226T191406Z
LAST-MODIFIED:20240822T111201Z
UID:2034-1726761600-1726765200@kulturvereinigung.at
SUMMARY:Habsburgs Kronen _ einzigartige Objekte in der ehemals kaiserlichen Schatzkammer machen Geschichte sichtbar
DESCRIPTION:Habsburgs Kronen und Insignien machen Geschichte sichtbar\nDonnerstag\, 19. September 2024   16h   Treffpunkt 15:55 SchatzkammerZugang über den Schweizer Hof der Hofburg. \nWir freuen uns auf eine informative und begeisternde Führung mit Frau Dr. Friederike Forst-Battaglia. \nWir ersuche € 10\,-  für die jeweilige Führung auf das Vereinskonto zu überweisen oder bar einem ÖKV Team Mitglied zu übergeben.Vielen Dank! \nÖsterreichische KulturvereinigungIBAN: AT06 3200 0000 0701 2784 \nFür den Eintritt empfehlen wir eine Jahreskarte zu lösen! \n  \n \nDr. Friederike Forst-Battaglia\, geb. in Graz\, Studium der Kunstgeschichte und Germanistik (Schwerpunkt österreichische Literatur) in Graz\, „Promotion „Sub auspiciis praesidentis“\, Studienaufenthalte in Poitiers und Dijon\, Frankreich. Referentin in der Abteilung für Ausstellungen und Film (Kultursektion des BM für auswärtige Angelegenheiten)\, Kulturattachée am österreichischen Kulturinstitut in Paris.Kunstvermittlerin am Kunsthistorischen Museum\, Vortragstätigkeit für die Volkshochschule Wieden\, die Diplomatische Akademie und Studierende der Universität Seattle\, USA.Mit dem Ehemann Dr. Jakub Forst-Battaglia\, Bot.i.R.\, auf Auslandsposten in Moskau\, Madrid\, Prag\, Tallin und Kiew. \n  \nWir machen bei unseren Veranstaltungen Fotos\, Film- und Tonaufnahmen\, mit deren auch späteren Verwendung Sie sich durch den Besuch der Veranstaltung einverstanden erklären. \n			\n				\n				\n				\n				\n				\n				\n				\n					Bitte aktiviere JavaScript in deinem Browser\, um dieses Formular fertigzustellen.Bitte aktiviere JavaScript in deinem Browser\, um dieses Formular fertigzustellen.NameEmail *VeranstaltungSubmit
URL:https://kulturvereinigung.at/event/habsburgs-kronen-_-einzigartige-objekte-in-der-ehemals-kaiserlichen-schatzkammer-machen-geschichte-sichtbar-_-schatzkammer/
LOCATION:Schatzkammer\, Schweizer Hof Hofburg\, Wien\, 1010\, Österreich
CATEGORIES:Kunst & Kultur
ATTACH;FMTTYPE=image/jpeg:https://kulturvereinigung.at/wp-content/uploads/2024/03/Kaiserkrone-Bild.jpg
END:VEVENT
BEGIN:VEVENT
DTSTART;TZID=UTC:20240919T180000
DTEND;TZID=UTC:20240919T210000
DTSTAMP:20260423T104533
CREATED:20240815T095339Z
LAST-MODIFIED:20240919T115331Z
UID:2782-1726768800-1726779600@kulturvereinigung.at
SUMMARY:Vernissage _ Die Schönheit der Natur im Laufe des Jahres _ Jacob E. Polaks transkulturelle Verdienste als kaiserlicher Kommissär _ Hera Samaneh Parizad und Afsaneh Gächter
DESCRIPTION:Vernissage _ Die Schönheit der Natur im Laufe des Jahres\nJacob E. Polaks transkulturelle Verdienste als kaiserlicher Kommissärdes persischen Pavillons in der Wiener Weltausstellung 1873 \nZur Vernissage von Hera Samaneh Parizad wird Afsaneh Gächter über Polaks Rolle als Kulturvermittler sprechen und der Frage\, wie die beeindruckenden persischen Miniaturen (Hamzaname) ihren Weg in das Museum für angewandte Kunst in Wien fanden\, nachgehen. \nDer österreichische Arzt und Ethnograph Jacob E. Polak (1818.1891) gilt als Vater der modernen Medizin im Iran (Persien). Er wurde 1851 vom persischen Hof eingeladen\, am neu gegründeten Polytechnikum (Dar ol-Fonun) in Teheran Medizin zu lehren. Er blieb insgesamt neun Jahre in Teheran und avancierte zum Leibarzt des Schahs. Damit erreichte er sowohl in Persien als auch in seiner Heimat einen hohen Rang und gesellschaftliche Anerkennung. \nPolak kehrte 1960 nach Wien zurück und wurde in der zweiten Hälfte des 19. Jahrhunderts zu einem wichtigen Akteur des Wissenstransfers zwischen den beiden Kulturen. Während der Wiener Weltausstellung 1873 wurde er zum kaiserlichen Kommissär der persischen Ausstellung in Wien ernannt und organisierte u. a. eine Auswahl persischer Kunstgegenstände\, die während der Ausstellung von den Besucher*innen bewundert wurden. \n  \nDonnerstag\, 19. September 2024Einlass 18h und Start 18:30Hanuschgasse 3/4/1/1046\, zweiter Hof\, 1010 Wien \n  \nWir freuen uns auf Hera Samaneh Parizad und Dr. Afsaneh Gächter. \n  \n \nDr. Afsaneh Gächter\, geboren in Teheran/Iran\, absolvierte ein Studium der Soziologie\, Ethnologie und Geschichte an der Universität Wien\, welches sie 2003 mit der Promotion in Soziologie abschloss.Ihre aktuellen Forschungsschwerpunkte umfassen die mentale Gesundheit der österreichischen Bevölkerung\, Transkulturalität im Gesundheitswesen sowie Medical Humanities. Sie ist Autorin mehrerer Publikationen und leitet heute das Zentrum zur Erforschung psychischer Gesundheit am Department für Psychosomatische Medizin und Psychotherapie der Universität für Weiterbildung Krems. \n  \n \nHera Samaneh Parizad\, geb. 1982 im Iran\, verheiratet\, 1 Kind\, \nWerdegangApril 2022 – Dezember 2022 Co-Kuratorin bei Community Gallery Ausstellung im Wien MuseumApril 2016   Einreise ÖsterreichAusbildung Februar 2011 Grafische Fakultät Teheran mit Bachelor AbschlussFebruar 2005 Lehramt für Bildnerische Erziehung Schwerpunkt: Bildliche KommunikationZentrum für angewandte Kunst & Technologie mit Abschluss Provinz West-Aserbaidschan-Iran _ Schwerpunkt: HolzkunstSeptember 1999 Abitur \nHera Samaneh Parizad hat 24 Jahre Erfahrung im Malen\, Zeichnen\, Handwerk und Basteln\, gestalten von Workshops für Kinder bzw. Erwachseneund in der Ausstellungsorganisation. \n  \n  \nDie Ausstellung ist bis 31. Oktober 2024 in den Räumlichkeiten der ÖKV mit vorheriger Absprache zu besichtigen. \nMit der Teilnahme an dieser Veranstaltung stimmen Sie der Veröffentlichung von Fotos\, Video- und Audioaufzeichnungen durch die Veranstalter oder von ihnen beauftragten Personen zu\, die im Rahmen der Veranstaltung entstehen. \n			\n				\n				\n				\n				\n				\n				\n				\n					Bitte aktiviere JavaScript in deinem Browser\, um dieses Formular fertigzustellen.Bitte aktiviere JavaScript in deinem Browser\, um dieses Formular fertigzustellen.NameEmail *VeranstaltungSubmit
URL:https://kulturvereinigung.at/event/vernissage-_-die-schoenheit-der-natur-im-laufe-des-jahres/
LOCATION:ÖKV\, Hanuschgasse 3/4/1/1046 zweiter Hof\, Wien\, 1010
CATEGORIES:Kunst & Kultur
ATTACH;FMTTYPE=image/jpeg:https://kulturvereinigung.at/wp-content/uploads/2024/08/Herbstbild-Hera-e1724338893855.jpeg
END:VEVENT
END:VCALENDAR